BEGIN:VCALENDAR
VERSION:2.0
PRODID:-//Feeding America Eastern Wisconsin - ECPv6.15.18//NONSGML v1.0//EN
CALSCALE:GREGORIAN
METHOD:PUBLISH
X-ORIGINAL-URL:https://feedingamericawi.org
X-WR-CALDESC:Events for Feeding America Eastern Wisconsin
REFRESH-INTERVAL;VALUE=DURATION:PT1H
X-Robots-Tag:noindex
X-PUBLISHED-TTL:PT1H
BEGIN:VTIMEZONE
TZID:UTC
BEGIN:STANDARD
TZOFFSETFROM:+0000
TZOFFSETTO:+0000
TZNAME:UTC
DTSTART:20240101T000000
END:STANDARD
END:VTIMEZONE
BEGIN:VTIMEZONE
TZID:America/Chicago
BEGIN:DAYLIGHT
TZOFFSETFROM:-0600
TZOFFSETTO:-0500
TZNAME:CDT
DTSTART:20240310T080000
END:DAYLIGHT
BEGIN:STANDARD
TZOFFSETFROM:-0500
TZOFFSETTO:-0600
TZNAME:CST
DTSTART:20241103T070000
END:STANDARD
BEGIN:DAYLIGHT
TZOFFSETFROM:-0600
TZOFFSETTO:-0500
TZNAME:CDT
DTSTART:20250309T080000
END:DAYLIGHT
BEGIN:STANDARD
TZOFFSETFROM:-0500
TZOFFSETTO:-0600
TZNAME:CST
DTSTART:20251102T070000
END:STANDARD
BEGIN:DAYLIGHT
TZOFFSETFROM:-0600
TZOFFSETTO:-0500
TZNAME:CDT
DTSTART:20260308T080000
END:DAYLIGHT
BEGIN:STANDARD
TZOFFSETFROM:-0500
TZOFFSETTO:-0600
TZNAME:CST
DTSTART:20261101T070000
END:STANDARD
END:VTIMEZONE
BEGIN:VEVENT
DTSTART;TZID=UTC:20251121T110000
DTEND;TZID=UTC:20251121T180000
DTSTAMP:20260419T200209
CREATED:20250107T234455Z
LAST-MODIFIED:20251103T204301Z
UID:1416-1763722800-1763748000@feedingamericawi.org
SUMMARY:Stuff the Bus
DESCRIPTION:With Thanksgiving fast approaching\, several community organizations are coming together to help those in need by hosting one of the largest holiday food drives in the state! \nFeeding America Eastern Wisconsin’s 28th Annual Stuff the Bus event kicks off at 11 a.m. on Friday\, November 21st – at SIX METRO MARKET stores (see below for exact locations) – and continues throughout the day until 6 p.m. \nDonors are asked to bring non-perishable food items from home\, or purchase pre-packed “Sack Hunger Bags” for $5 at the check-out lines of any of the Stuff the Bus store locations to fill a Milwaukee County Transit System bus or Feeding America Eastern Wisconsin truck parked in front of each store. Supporters may also make monetary donations in-person during the event or online to ensure our neighbors in need have nutritious food to eat\, not just during the holidays\, but all year long. Click HERE to make a monetary donation toward food purchases for Stuff the Bus! \nElizabeth & Radar from 99.1 The Mix (Shorewood)\, Alley and DZ from 103.7 KISS FM (Brookfield)\, and Sparky from 105.7 The Fan (Wauwatosa) will be on location throughout the day\, as well as guest appearances from several well-known sports mascots\, community leaders\, first responders\, and even Santa! Special thank you to our incredibly generous partners for this event – Elizabeth\, Radar\, and the entire staff at Audacy / 99.1 The Mix\, Milwaukee County Transit System\, Pick ‘n Save\, and Metro Market. \nInterested in volunteering with us during Stuff the Bus? Click HERE and select one of the participating stores nearest you to sign up!\n  \n\nMilwaukee County:\nMetro Market – Shorewood*\n4075 N. Oakland Avenue\, Shorewood \nMetro Market – Greenfield\n4279 S. 76th Street\, Greenfield \nMetro Market – State Street*\n6950 W. State Street\, Wauwatosa \nWaukesha County:\nMetro Market – Brookfield*\n12735 W. Capitol Drive\, Brookfield \nMetro Market – Pabst Farms\n1300 Pabst Farms Circle\, Oconomowoc \nOzaukee County:\nMetro Market – Mequon\n11558 N. Port Washington Road\, Mequon \n* = Audacy Radio Station Personalities On-Location
URL:https://feedingamericawi.org/event/bus25/
CATEGORIES:Annual Food and Funds Drive
ATTACH;FMTTYPE=image/png:https://feedingamericawi.org/wp-content/uploads/2025/01/EVENT-CALENDAR_Stuff-the-Bus-2025.png
END:VEVENT
BEGIN:VEVENT
DTSTART;TZID=America/Chicago:20251110T060000
DTEND;TZID=America/Chicago:20251110T180000
DTSTAMP:20260419T200209
CREATED:20251014T135854Z
LAST-MODIFIED:20251103T150151Z
UID:7155-1762754400-1762797600@feedingamericawi.org
SUMMARY:Operation Feed the Need
DESCRIPTION:Join all of Midwest Communications’ Green Bay/Appleton radio stations (Y100\, WIXX\, WTAQ\, Duke FM\, Jack FM\, and WNFL) for a holiday food and funds drive in support of Feeding America Eastern Wisconsin! \nStations will be broadcasting live at three area Festival Foods stores from 6 a.m. to 6 p.m. on Monday\, November 10th\, collecting non-perishable food items and cash donations to benefit our local pantries\, shelters\, and neighbors in need. \nIf you don’t have time to drop off food items\, you can click HERE to make a monetary donation! \nFind us at the following Festival Foods locations: \nGreen Bay: 2250 W. Mason Street\nAppleton: W3195 Van Roy Road\nOshkosh: 2415 Westowne Avenue\n 
URL:https://feedingamericawi.org/event/midwest/
CATEGORIES:Annual Food and Funds Drive
ATTACH;FMTTYPE=image/png:https://feedingamericawi.org/wp-content/uploads/2025/10/Operation-Feed-the-Need-Event-Image_rev.png
END:VEVENT
END:VCALENDAR